BEGIN:VCALENDAR
VERSION:2.0
PRODID:-//Yakima Basin Fish and Wildlife Recovery Board - ECPv6.15.20//NONSGML v1.0//EN
CALSCALE:GREGORIAN
METHOD:PUBLISH
X-WR-CALNAME:Yakima Basin Fish and Wildlife Recovery Board
X-ORIGINAL-URL:https://ybfwrb.org
X-WR-CALDESC:Events for Yakima Basin Fish and Wildlife Recovery Board
REFRESH-INTERVAL;VALUE=DURATION:PT1H
X-Robots-Tag:noindex
X-PUBLISHED-TTL:PT1H
BEGIN:VTIMEZONE
TZID:America/Los_Angeles
BEGIN:DAYLIGHT
TZOFFSETFROM:-0800
TZOFFSETTO:-0700
TZNAME:PDT
DTSTART:20230312T100000
END:DAYLIGHT
BEGIN:STANDARD
TZOFFSETFROM:-0700
TZOFFSETTO:-0800
TZNAME:PST
DTSTART:20231105T090000
END:STANDARD
BEGIN:DAYLIGHT
TZOFFSETFROM:-0800
TZOFFSETTO:-0700
TZNAME:PDT
DTSTART:20240310T100000
END:DAYLIGHT
BEGIN:STANDARD
TZOFFSETFROM:-0700
TZOFFSETTO:-0800
TZNAME:PST
DTSTART:20241103T090000
END:STANDARD
BEGIN:DAYLIGHT
TZOFFSETFROM:-0800
TZOFFSETTO:-0700
TZNAME:PDT
DTSTART:20250309T100000
END:DAYLIGHT
BEGIN:STANDARD
TZOFFSETFROM:-0700
TZOFFSETTO:-0800
TZNAME:PST
DTSTART:20251102T090000
END:STANDARD
END:VTIMEZONE
BEGIN:VEVENT
DTSTART;TZID=America/Los_Angeles:20240807T090000
DTEND;TZID=America/Los_Angeles:20240807T160000
DTSTAMP:20260422T043703
CREATED:20230816T172537Z
LAST-MODIFIED:20240603T212546Z
UID:18988-1723021200-1723046400@ybfwrb.org
SUMMARY:Annual Board Meeting
DESCRIPTION:  \nAgenda TBA – We will post as soon as it is finalized. \nTour 9:00 AM – 12:00 PM \nTour will be conducted around the Little Naches River. \n12:00-2:00 PM Workshop \n2:00-4:00 PM Board Meeting \nRSVP HERE
URL:https://ybfwrb.org/calendar/annual-board-meeting/
LOCATION:WA
CATEGORIES:Annual Meeting
ORGANIZER;CN="YBFWRB":MAILTO:info@ybfwrb.org
END:VEVENT
END:VCALENDAR