BEGIN:VCALENDAR
VERSION:2.0
PRODID:-//Yakima Basin Fish and Wildlife Recovery Board - ECPv6.15.20//NONSGML v1.0//EN
CALSCALE:GREGORIAN
METHOD:PUBLISH
X-ORIGINAL-URL:https://ybfwrb.org
X-WR-CALDESC:Events for Yakima Basin Fish and Wildlife Recovery Board
REFRESH-INTERVAL;VALUE=DURATION:PT1H
X-Robots-Tag:noindex
X-PUBLISHED-TTL:PT1H
BEGIN:VTIMEZONE
TZID:America/Los_Angeles
BEGIN:DAYLIGHT
TZOFFSETFROM:-0800
TZOFFSETTO:-0700
TZNAME:PDT
DTSTART:20240310T100000
END:DAYLIGHT
BEGIN:STANDARD
TZOFFSETFROM:-0700
TZOFFSETTO:-0800
TZNAME:PST
DTSTART:20241103T090000
END:STANDARD
BEGIN:DAYLIGHT
TZOFFSETFROM:-0800
TZOFFSETTO:-0700
TZNAME:PDT
DTSTART:20250309T100000
END:DAYLIGHT
BEGIN:STANDARD
TZOFFSETFROM:-0700
TZOFFSETTO:-0800
TZNAME:PST
DTSTART:20251102T090000
END:STANDARD
BEGIN:DAYLIGHT
TZOFFSETFROM:-0800
TZOFFSETTO:-0700
TZNAME:PDT
DTSTART:20260308T100000
END:DAYLIGHT
BEGIN:STANDARD
TZOFFSETFROM:-0700
TZOFFSETTO:-0800
TZNAME:PST
DTSTART:20261101T090000
END:STANDARD
END:VTIMEZONE
BEGIN:VEVENT
DTSTART;TZID=America/Los_Angeles:20250114T090000
DTEND;TZID=America/Los_Angeles:20250114T163000
DTSTAMP:20260420T062228
CREATED:20250108T174242Z
LAST-MODIFIED:20250108T175254Z
UID:28597-1736845200-1736872200@ybfwrb.org
SUMMARY:Yakima Bull Trout Working Group Meeting
DESCRIPTION:The Yakima Bull Trout Working Group (BTWG) is an informal working group that brings partners working on Bull Trout conservation together approximately every other month. Originally formed to draft the Yakima chapter of the 2002 draft of the USFWS Recovery Plan\, the group has become the go-to-place to for all things Bull Trout. The group organizes fieldwork\, makes funding recommendations\, provides feedback on Bull Trout projects\, shares new data and information and advocates for Bull Trout recovery. Representatives of federal and state agencies\, the Yakama Nation\, conservation non-profits and the public all regularly participate. The BTWG wrote the Yakima Bull Trout Action Plan (BTAP) in 2012 and updated it in 2017. The BTWG works together to ensure that partners are following through and implementing the actions that have been prioritized in the BTAP. In addition to the BTAP\, the working group maintains a regional Bull Trout library with published literature\, reports\, and other relevant references. If you would like to access files in the library\, please use the “email us” button at the bottom of this page and we will add you as a member of the group library. \nThe BTWG is coordinated by the Yakima Basin Fish & Wildlife Recovery Board with funding from the Department of Ecology’s Office of the Columbia River. To be added to the BTWG digital mailing list\, email us. Aimee Taylor (aimee@midcolumbiafisheries.org) is the current facilitator of BTWG meetings\, please email if there are any questions or comments. \nhttps://us06web.zoom.us/j/7664033117?pwd=aEc4Ny8zUCtOUkN4UmtoSkdxZkNKUT09 \nMeeting ID: 766 403 3117 \nPasscode: yMmGn4 \nOne tap mobile \n+12532158782\,\,7664033117#\,\,\,\,*843563# US (Tacoma) \n+12532050468\,\,7664033117#\,\,\,\,*843563# US
URL:https://ybfwrb.org/calendar/yakima-bull-trout-working-group-meeting/
LOCATION:YBFWRB Meeting Room\, 1200 Chesterly Drive\, Suite 280\, Yakima\, WA\, 98902
CATEGORIES:Meetings
ORGANIZER;CN="MCFEG & YBFWRB":MAILTO:operations@ybfwrb.org
END:VEVENT
BEGIN:VEVENT
DTSTART;TZID=America/Los_Angeles:20250129T120000
DTEND;TZID=America/Los_Angeles:20250129T160000
DTSTAMP:20260420T062228
CREATED:20240826T224527Z
LAST-MODIFIED:20250128T232236Z
UID:27170-1738152000-1738166400@ybfwrb.org
SUMMARY:YBFWRB Board Members Meeting & Work Session
DESCRIPTION:Yakima Basin Fish and Wildlife Recovery Board Member Meeting\n\nRSVP: https://www.ybfwrb.org/rsvp \n— \nAGENDA  \nMeeting Location: 1200 Chesterly Dr Suite 280 Yakima\, WA 98926  \n— \nMeeting Schedule: \n12:00-12:30 PM Lunch & Light Refreshments Provided \n12:30-2:00 PM Pre-Meeting Workshop \n2:00-4:00 PM Business Meeting \n  \n— \nHybrid Option: \n  \nJoin Zoom Meeting \nhttps://us06web.zoom.us/j/89993931512 \n  \nMeeting ID: 899 9393 1512 \nPasscode: 12345 \n  \n— \n  \nOne tap mobile \n+12532050468\,\,89993931512# US \n+12532158782\,\,89993931512# US (Tacoma) \n  \n  \nMeeting ID: 899 9393 1512 \n  \nFind your local number: https://us06web.zoom.us/u/kB2huN2JQ \n  \n  \nQuestions? Please email Bridget @ bwood@ybfwrb.org or Alex at aconley@ybfwrb.org \n  \n 
URL:https://ybfwrb.org/calendar/ybfwrb-board-members-meeting-work-session/
LOCATION:YBFWRB Meeting Room\, 1200 Chesterly Drive\, Suite 280\, Yakima\, WA\, 98902
CATEGORIES:Meetings,Workshop,YBFWRB Board Meetings
ATTACH;FMTTYPE=image/jpeg:https://ybfwrb.org/wp-content/uploads/2023/08/cropped-logo-mid-size.jpg
ORGANIZER;CN="YBFWRB":MAILTO:info@ybfwrb.org
END:VEVENT
END:VCALENDAR