BEGIN:VCALENDAR
VERSION:2.0
PRODID:-//Yakima Basin Fish and Wildlife Recovery Board - ECPv6.15.20//NONSGML v1.0//EN
CALSCALE:GREGORIAN
METHOD:PUBLISH
X-ORIGINAL-URL:https://ybfwrb.org
X-WR-CALDESC:Events for Yakima Basin Fish and Wildlife Recovery Board
REFRESH-INTERVAL;VALUE=DURATION:PT1H
X-Robots-Tag:noindex
X-PUBLISHED-TTL:PT1H
BEGIN:VTIMEZONE
TZID:America/Los_Angeles
BEGIN:DAYLIGHT
TZOFFSETFROM:-0800
TZOFFSETTO:-0700
TZNAME:PDT
DTSTART:20240310T100000
END:DAYLIGHT
BEGIN:STANDARD
TZOFFSETFROM:-0700
TZOFFSETTO:-0800
TZNAME:PST
DTSTART:20241103T090000
END:STANDARD
BEGIN:DAYLIGHT
TZOFFSETFROM:-0800
TZOFFSETTO:-0700
TZNAME:PDT
DTSTART:20250309T100000
END:DAYLIGHT
BEGIN:STANDARD
TZOFFSETFROM:-0700
TZOFFSETTO:-0800
TZNAME:PST
DTSTART:20251102T090000
END:STANDARD
BEGIN:DAYLIGHT
TZOFFSETFROM:-0800
TZOFFSETTO:-0700
TZNAME:PDT
DTSTART:20260308T100000
END:DAYLIGHT
BEGIN:STANDARD
TZOFFSETFROM:-0700
TZOFFSETTO:-0800
TZNAME:PST
DTSTART:20261101T090000
END:STANDARD
END:VTIMEZONE
BEGIN:VEVENT
DTSTART;TZID=America/Los_Angeles:20250521T113000
DTEND;TZID=America/Los_Angeles:20250521T160000
DTSTAMP:20260420T002115
CREATED:20250128T231340Z
LAST-MODIFIED:20250515T210413Z
UID:27174-1747827000-1747843200@ybfwrb.org
SUMMARY:YBFWRB Board Meeting & Work Session @ Wild Horse Renewable Energy Center
DESCRIPTION:Yakima Basin Fish and Wildlife Recovery Board Member Meeting – May 21\, 2025\nWe’ll start the meeting with an 11:30 walking tour around the Wildhorse Windfarm where we can talk about the sage steppe\, energy issues and more. After lunch at 12:30\, we’ll have a panel and dive into shrub steppe management issues in Central Washignotn with Mike Livingston of WDFW\, Jay Kehne from Conservation NW and Tip Hudson of WSU Extension. We’ll talk about energy development\, fire\, rare species management\, and more\, so bring your questions! The business meeting of the Board of Directors will run from 2-4 pm and focus on work plan and budget development for FY26-27. If you’d like to join us for some or all of the meeting\, please RSVP at https://www.ybfwrb.org/rsvp. \n— \nMeeting Location: Wild Horse Renewable Energy Center – Visitors Center \nPSE | Wild Horse \nDirections \n— \nMeeting Schedule: \n11:30-12:30 PM Lunch & Light Refreshments Provided \n12:30-2:00 PM Pre-Meeting Workshop \n2:00-4:00 PM Business Meeting \nClick here for the Agenda \n— \nHybrid Option: \n Join Zoom Meeting \nhttps://us06web.zoom.us/j/89993931512 \nMeeting ID: 899 9393 1512 \nPasscode: 12345 \n— \nOne tap mobile \n+12532050468\,\,89993931512# US \n+12532158782\,\,89993931512# US (Tacoma) \nMeeting ID: 899 9393 1512 \nFind your local number: https://us06web.zoom.us/u/kB2huN2JQ \n  \n  \nQuestions? Please email Bridget @ bwood@ybfwrb.org or Alex at aconley@ybfwrb.org \n  \n  \n 
URL:https://ybfwrb.org/calendar/ybfwrb-board-members-meeting-work-session-3/
LOCATION:YBFWRB Meeting Room\, 1200 Chesterly Drive\, Suite 280\, Yakima\, WA\, 98902
CATEGORIES:Meetings,Workshop,YBFWRB Board Meetings
ATTACH;FMTTYPE=image/jpeg:https://ybfwrb.org/wp-content/uploads/2023/08/cropped-logo-mid-size.jpg
ORGANIZER;CN="YBFWRB":MAILTO:info@ybfwrb.org
END:VEVENT
END:VCALENDAR