BEGIN:VCALENDAR
VERSION:2.0
PRODID:-//Yakima Basin Fish and Wildlife Recovery Board - ECPv6.15.20//NONSGML v1.0//EN
CALSCALE:GREGORIAN
METHOD:PUBLISH
X-WR-CALNAME:Yakima Basin Fish and Wildlife Recovery Board
X-ORIGINAL-URL:https://ybfwrb.org
X-WR-CALDESC:Events for Yakima Basin Fish and Wildlife Recovery Board
REFRESH-INTERVAL;VALUE=DURATION:PT1H
X-Robots-Tag:noindex
X-PUBLISHED-TTL:PT1H
BEGIN:VTIMEZONE
TZID:America/Los_Angeles
BEGIN:DAYLIGHT
TZOFFSETFROM:-0800
TZOFFSETTO:-0700
TZNAME:PDT
DTSTART:20190310T100000
END:DAYLIGHT
BEGIN:STANDARD
TZOFFSETFROM:-0700
TZOFFSETTO:-0800
TZNAME:PST
DTSTART:20191103T090000
END:STANDARD
BEGIN:DAYLIGHT
TZOFFSETFROM:-0800
TZOFFSETTO:-0700
TZNAME:PDT
DTSTART:20200308T100000
END:DAYLIGHT
BEGIN:STANDARD
TZOFFSETFROM:-0700
TZOFFSETTO:-0800
TZNAME:PST
DTSTART:20201101T090000
END:STANDARD
BEGIN:DAYLIGHT
TZOFFSETFROM:-0800
TZOFFSETTO:-0700
TZNAME:PDT
DTSTART:20210314T100000
END:DAYLIGHT
BEGIN:STANDARD
TZOFFSETFROM:-0700
TZOFFSETTO:-0800
TZNAME:PST
DTSTART:20211107T090000
END:STANDARD
BEGIN:DAYLIGHT
TZOFFSETFROM:-0800
TZOFFSETTO:-0700
TZNAME:PDT
DTSTART:20220313T100000
END:DAYLIGHT
BEGIN:STANDARD
TZOFFSETFROM:-0700
TZOFFSETTO:-0800
TZNAME:PST
DTSTART:20221106T090000
END:STANDARD
BEGIN:DAYLIGHT
TZOFFSETFROM:-0800
TZOFFSETTO:-0700
TZNAME:PDT
DTSTART:20230312T100000
END:DAYLIGHT
BEGIN:STANDARD
TZOFFSETFROM:-0700
TZOFFSETTO:-0800
TZNAME:PST
DTSTART:20231105T090000
END:STANDARD
BEGIN:DAYLIGHT
TZOFFSETFROM:-0800
TZOFFSETTO:-0700
TZNAME:PDT
DTSTART:20240310T100000
END:DAYLIGHT
BEGIN:STANDARD
TZOFFSETFROM:-0700
TZOFFSETTO:-0800
TZNAME:PST
DTSTART:20241103T090000
END:STANDARD
BEGIN:DAYLIGHT
TZOFFSETFROM:-0800
TZOFFSETTO:-0700
TZNAME:PDT
DTSTART:20250309T100000
END:DAYLIGHT
BEGIN:STANDARD
TZOFFSETFROM:-0700
TZOFFSETTO:-0800
TZNAME:PST
DTSTART:20251102T090000
END:STANDARD
END:VTIMEZONE
BEGIN:VEVENT
DTSTART;TZID=America/Los_Angeles:20241002T120000
DTEND;TZID=America/Los_Angeles:20241002T160000
DTSTAMP:20260419T131255
CREATED:20240826T223402Z
LAST-MODIFIED:20240926T183224Z
UID:27166-1727870400-1727884800@ybfwrb.org
SUMMARY:YBFWRB Board Member Meeting & Work Session
DESCRIPTION:  \nYakima Basin Fish and Wildlife Recovery Board Member Meeting \nAgenda: https://ybfwrb.org/wp-content/uploads/2024/09/10-2-2024_Agenda.pdf \nRSVP: https://forms.gle/3ycMR8JSgtRxKXCc8 \n  \n— \nMeeting Location: 1200 Chesterly Dr Suite 280 Yakima\, WA 98926  \n— \nMeeting Schedule: \n12:00-12:30 PM Lunch & Light Refreshments Provided \n12:30-2:00 PM Pre-Meeting Workshop \n2:00-4:00 PM Business Meeting \nAgenda: TBD \n— \nHybrid Option: \n  \n  \nJoin Zoom Meeting \nhttps://us06web.zoom.us/j/89993931512 \n  \nMeeting ID: 899 9393 1512 \nPasscode: 12345 \n  \n— \n  \nOne tap mobile \n+12532050468\,\,89993931512# US \n+12532158782\,\,89993931512# US (Tacoma) \n  \n  \nMeeting ID: 899 9393 1512 \n  \nFind your local number: https://us06web.zoom.us/u/kB2huN2JQ \n  \n  \nQuestions? Please email Bridget @ bwood@ybfwrb.org or Alex at aconley@ybfwrb.org
URL:https://ybfwrb.org/calendar/ybfwrb-board-member-meeting-work-session/
LOCATION:YBFWRB Meeting Room\, 1200 Chesterly Drive\, Suite 280\, Yakima\, WA\, 98902
CATEGORIES:Meetings,Workshop,YBFWRB Board Meetings
ATTACH;FMTTYPE=image/jpeg:https://ybfwrb.org/wp-content/uploads/2023/08/cropped-logo-mid-size.jpg
ORGANIZER;CN="YBFWRB":MAILTO:info@ybfwrb.org
END:VEVENT
BEGIN:VEVENT
DTSTART;TZID=America/Los_Angeles:20200916T080000
DTEND;TZID=America/Los_Angeles:20200917T170000
DTSTAMP:20260419T131255
CREATED:20200702T202215Z
LAST-MODIFIED:20200702T203921Z
UID:14443-1600243200-1600362000@ybfwrb.org
SUMMARY:Salmon Recovery Funding Board Meeting
DESCRIPTION:Prioritized lists\, submitted by the Lead Entities across the state\, will be reviewed and funding awarded at the September SRFB meeting\, currently scheduled to be held in Olympia.
URL:https://ybfwrb.org/calendar/salmon-recovery-funding-board-meeting/
LOCATION:WA
CATEGORIES:Meetings
END:VEVENT
END:VCALENDAR