BEGIN:VCALENDAR
VERSION:2.0
PRODID:-//Yakima Basin Fish and Wildlife Recovery Board - ECPv6.15.20//NONSGML v1.0//EN
CALSCALE:GREGORIAN
METHOD:PUBLISH
X-WR-CALNAME:Yakima Basin Fish and Wildlife Recovery Board
X-ORIGINAL-URL:https://ybfwrb.org
X-WR-CALDESC:Events for Yakima Basin Fish and Wildlife Recovery Board
REFRESH-INTERVAL;VALUE=DURATION:PT1H
X-Robots-Tag:noindex
X-PUBLISHED-TTL:PT1H
BEGIN:VTIMEZONE
TZID:America/Los_Angeles
BEGIN:DAYLIGHT
TZOFFSETFROM:-0800
TZOFFSETTO:-0700
TZNAME:PDT
DTSTART:20210314T100000
END:DAYLIGHT
BEGIN:STANDARD
TZOFFSETFROM:-0700
TZOFFSETTO:-0800
TZNAME:PST
DTSTART:20211107T090000
END:STANDARD
BEGIN:DAYLIGHT
TZOFFSETFROM:-0800
TZOFFSETTO:-0700
TZNAME:PDT
DTSTART:20220313T100000
END:DAYLIGHT
BEGIN:STANDARD
TZOFFSETFROM:-0700
TZOFFSETTO:-0800
TZNAME:PST
DTSTART:20221106T090000
END:STANDARD
BEGIN:DAYLIGHT
TZOFFSETFROM:-0800
TZOFFSETTO:-0700
TZNAME:PDT
DTSTART:20230312T100000
END:DAYLIGHT
BEGIN:STANDARD
TZOFFSETFROM:-0700
TZOFFSETTO:-0800
TZNAME:PST
DTSTART:20231105T090000
END:STANDARD
BEGIN:DAYLIGHT
TZOFFSETFROM:-0800
TZOFFSETTO:-0700
TZNAME:PDT
DTSTART:20240310T100000
END:DAYLIGHT
BEGIN:STANDARD
TZOFFSETFROM:-0700
TZOFFSETTO:-0800
TZNAME:PST
DTSTART:20241103T090000
END:STANDARD
BEGIN:DAYLIGHT
TZOFFSETFROM:-0800
TZOFFSETTO:-0700
TZNAME:PDT
DTSTART:20250309T100000
END:DAYLIGHT
BEGIN:STANDARD
TZOFFSETFROM:-0700
TZOFFSETTO:-0800
TZNAME:PST
DTSTART:20251102T090000
END:STANDARD
END:VTIMEZONE
BEGIN:VEVENT
DTSTART;TZID=America/Los_Angeles:20240807T090000
DTEND;TZID=America/Los_Angeles:20240807T160000
DTSTAMP:20260421T123156
CREATED:20230816T172537Z
LAST-MODIFIED:20240603T212546Z
UID:18988-1723021200-1723046400@ybfwrb.org
SUMMARY:Annual Board Meeting
DESCRIPTION:  \nAgenda TBA – We will post as soon as it is finalized. \nTour 9:00 AM – 12:00 PM \nTour will be conducted around the Little Naches River. \n12:00-2:00 PM Workshop \n2:00-4:00 PM Board Meeting \nRSVP HERE
URL:https://ybfwrb.org/calendar/annual-board-meeting/
LOCATION:WA
CATEGORIES:Annual Meeting
ORGANIZER;CN="YBFWRB":MAILTO:info@ybfwrb.org
END:VEVENT
BEGIN:VEVENT
DTSTART;TZID=America/Los_Angeles:20240731T090000
DTEND;TZID=America/Los_Angeles:20240731T173000
DTSTAMP:20260421T123156
CREATED:20240710T230813Z
LAST-MODIFIED:20240719T211326Z
UID:27012-1722416400-1722447000@ybfwrb.org
SUMMARY:Citizen Committee Evaluation Meeting
DESCRIPTION:The Citizen Committee will hold its 2024 Salmon Recovery Funding Board (SRFB) Grant Round Project Evaluation Meeting on Wednesday\, July 31st\, 2024 from 9 am to 5:30 pm. \nA public comment period will be available at the beginning of the meeting. \nFor more information\, please see the agenda for the meeting.
URL:https://ybfwrb.org/calendar/2024-citizen-committee-srfb-project-evaluation-meeting/
LOCATION:WA
END:VEVENT
BEGIN:VEVENT
DTSTART;TZID=America/Los_Angeles:20240717T090000
DTEND;TZID=America/Los_Angeles:20240718T120000
DTSTAMP:20260421T123156
CREATED:20240410T224137Z
LAST-MODIFIED:20240710T231341Z
UID:21922-1721206800-1721304000@ybfwrb.org
SUMMARY:Technical Advisory Group (TAG) Evaluation Meeting
DESCRIPTION:
URL:https://ybfwrb.org/calendar/technical-advisory-group-mtg/
LOCATION:WA
END:VEVENT
BEGIN:VEVENT
DTSTART;TZID=America/Los_Angeles:20240529T120000
DTEND;TZID=America/Los_Angeles:20240529T160000
DTSTAMP:20260421T123156
CREATED:20230816T171357Z
LAST-MODIFIED:20230816T173009Z
UID:18986-1716984000-1716998400@ybfwrb.org
SUMMARY:Board Meeting
DESCRIPTION:Agenda TBA \n12:00-2:00 PM Workshop \n2:00-4:00 PM Board Meeting
URL:https://ybfwrb.org/calendar/board-meeting-9/
LOCATION:YBFWRB Meeting Room\, 1200 Chesterly Drive\, Suite 280\, Yakima\, WA\, 98902
CATEGORIES:Workshop,YBFWRB Board Meetings
ORGANIZER;CN="YBFWRB":MAILTO:info@ybfwrb.org
END:VEVENT
BEGIN:VEVENT
DTSTART;VALUE=DATE:20240507
DTEND;VALUE=DATE:20240510
DTSTAMP:20260421T123156
CREATED:20240410T223809Z
LAST-MODIFIED:20240410T223809Z
UID:21920-1715040000-1715299199@ybfwrb.org
SUMMARY:State Review Panel Site Visits
DESCRIPTION:
URL:https://ybfwrb.org/calendar/state-review-panel-site-visits/
LOCATION:WA
END:VEVENT
BEGIN:VEVENT
DTSTART;TZID=America/Los_Angeles:20240418T130000
DTEND;TZID=America/Los_Angeles:20240418T163000
DTSTAMP:20260421T123156
CREATED:20240410T210647Z
LAST-MODIFIED:20240410T210853Z
UID:21901-1713445200-1713457800@ybfwrb.org
SUMMARY:2024 SRFB Sponsor Presentations Day 2
DESCRIPTION:
URL:https://ybfwrb.org/calendar/2024-sponsor-presentations-2/
LOCATION:WA
END:VEVENT
BEGIN:VEVENT
DTSTART;TZID=America/Los_Angeles:20240417T090000
DTEND;TZID=America/Los_Angeles:20240417T160000
DTSTAMP:20260421T123156
CREATED:20240410T210151Z
LAST-MODIFIED:20240410T210800Z
UID:21898-1713344400-1713369600@ybfwrb.org
SUMMARY:2024 SRFB Sponsor Presentations Day 1
DESCRIPTION:
URL:https://ybfwrb.org/calendar/2024-sponsor-presentations/
LOCATION:WA
END:VEVENT
BEGIN:VEVENT
DTSTART;VALUE=DATE:20240410
DTEND;VALUE=DATE:20240411
DTSTAMP:20260421T123156
CREATED:20240410T224653Z
LAST-MODIFIED:20240410T224843Z
UID:21933-1712707200-1712793599@ybfwrb.org
SUMMARY:2024 SRFB Grant Applications Due
DESCRIPTION:
URL:https://ybfwrb.org/calendar/full-srfb-grant-applications-due/
LOCATION:WA
END:VEVENT
BEGIN:VEVENT
DTSTART;TZID=America/Los_Angeles:20240327T120000
DTEND;TZID=America/Los_Angeles:20240327T160000
DTSTAMP:20260421T123156
CREATED:20230816T171249Z
LAST-MODIFIED:20240314T235046Z
UID:18984-1711540800-1711555200@ybfwrb.org
SUMMARY:03/27/2024 Board Meeting
DESCRIPTION:Agenda \n12:00-2:00 PM Workshop \n2:00-4:00 PM Board Meeting
URL:https://ybfwrb.org/calendar/032724boardmeeting/
LOCATION:YBFWRB Meeting Room\, 1200 Chesterly Drive\, Suite 280\, Yakima\, WA\, 98902
CATEGORIES:Workshop,YBFWRB Board Meetings
ORGANIZER;CN="YBFWRB":MAILTO:info@ybfwrb.org
END:VEVENT
BEGIN:VEVENT
DTSTART;TZID=America/Los_Angeles:20240124T120000
DTEND;TZID=America/Los_Angeles:20240124T160000
DTSTAMP:20260421T123156
CREATED:20230816T171152Z
LAST-MODIFIED:20240118T215655Z
UID:18982-1706097600-1706112000@ybfwrb.org
SUMMARY:Board Meeting
DESCRIPTION:Agenda \n12:00-2:00 PM Workshop \n2:00-4:00 PM Board Meeting
URL:https://ybfwrb.org/calendar/board-meeting-7/
LOCATION:YBFWRB Meeting Room\, 1200 Chesterly Drive\, Suite 280\, Yakima\, WA\, 98902
CATEGORIES:Workshop,YBFWRB Board Meetings
ORGANIZER;CN="YBFWRB":MAILTO:info@ybfwrb.org
END:VEVENT
BEGIN:VEVENT
DTSTART;TZID=America/Los_Angeles:20231129T120000
DTEND;TZID=America/Los_Angeles:20231129T160000
DTSTAMP:20260421T123156
CREATED:20230816T171047Z
LAST-MODIFIED:20231122T161056Z
UID:18977-1701259200-1701273600@ybfwrb.org
SUMMARY:Board of Directors Meeting
DESCRIPTION:Agenda \n2:00-4:00 PM Board Meeting only
URL:https://ybfwrb.org/calendar/board-meeting-6/
LOCATION:YBFWRB Meeting Room\, 1200 Chesterly Drive\, Suite 280\, Yakima\, WA\, 98902
CATEGORIES:Workshop,YBFWRB Board Meetings
ORGANIZER;CN="YBFWRB":MAILTO:info@ybfwrb.org
END:VEVENT
BEGIN:VEVENT
DTSTART;TZID=America/Los_Angeles:20230927T120000
DTEND;TZID=America/Los_Angeles:20230927T160000
DTSTAMP:20260421T123156
CREATED:20230816T170623Z
LAST-MODIFIED:20230922T011556Z
UID:18974-1695816000-1695830400@ybfwrb.org
SUMMARY:Board Meeting
DESCRIPTION:Agenda \n12:00-2:00 PM Workshop \n2:00-4:00 PM Board Meeting
URL:https://ybfwrb.org/calendar/board-meeting-5/
LOCATION:YBFWRB Meeting Room\, 1200 Chesterly Drive\, Suite 280\, Yakima\, WA\, 98902
CATEGORIES:Workshop,YBFWRB Board Meetings
ORGANIZER;CN="YBFWRB":MAILTO:info@ybfwrb.org
END:VEVENT
BEGIN:VEVENT
DTSTART;VALUE=DATE:20230809
DTEND;VALUE=DATE:20230810
DTSTAMP:20260421T123156
CREATED:20230712T233556Z
LAST-MODIFIED:20230719T224925Z
UID:18887-1691539200-1691625599@ybfwrb.org
SUMMARY:YBFWRB Annual Meeting
DESCRIPTION:
URL:https://ybfwrb.org/calendar/ybfwrb-annual-meeting-2/
LOCATION:Swuak-Teanaway Grange\, 1361 Ballard Rd W\, Cle Elum\, 98922\, United States
CATEGORIES:Annual Meeting
ORGANIZER;CN="YBFWRB":MAILTO:info@ybfwrb.org
END:VEVENT
BEGIN:VEVENT
DTSTART;TZID=America/Los_Angeles:20230524T123000
DTEND;TZID=America/Los_Angeles:20230524T160000
DTSTAMP:20260421T123156
CREATED:20230519T195115Z
LAST-MODIFIED:20230519T200134Z
UID:18374-1684931400-1684944000@ybfwrb.org
SUMMARY:May 24th Board Meeting
DESCRIPTION:If you are interested in joining the City of Yakima celebration at Nelson Dam at 11:00AM\, email Alex Conley at ACONLEY@YBFWRB.ORG \n\n\n\n\n\n\n\n\n\n\n\n\n\n\n\nRSVP HERE\n\n\n\n\n\n\n\n\n\n\n\n\n\n\n\nHere’s what’s happening.\nLet us know if you will be joining us in-person in our conference room or virtually\, for our May 24th\, 2023 Board Meeting: \n\nLunch Working Session 12:30-1:50\nBusiness Meeting 2:00-4:00\n1200 Chesterly Drive\, STE 280 Yakima Washington\, 98902\nVirtually via Meeting link: https://www.gotomeet.me/AlexC/ybfwrb-meetings Dial in: +1 (786) 535-3211 Access Code: 692-652-957.
URL:https://ybfwrb.org/calendar/may-24th-board-meeting/
LOCATION:Hybrid: YBFWRB Office and Zoom
CATEGORIES:Workshop,YBFWRB Board Meetings
END:VEVENT
BEGIN:VEVENT
DTSTART;TZID=America/Los_Angeles:20230329T120000
DTEND;TZID=America/Los_Angeles:20230329T160000
DTSTAMP:20260421T123156
CREATED:20230324T182441Z
LAST-MODIFIED:20230324T191355Z
UID:17643-1680091200-1680105600@ybfwrb.org
SUMMARY:March 29th Board Meeting
DESCRIPTION:Please join us for a working lunch session and business meeting with Yakima Basin Fish and Wildlife Recovery Board’s Board of Directors and Staff. Complete the RSVP form to indicate your level of participation.\n   AGENDA    RSVP   MEETING SCHEDULE
URL:https://ybfwrb.org/calendar/march-29th-board-meeting/
LOCATION:Hybrid: YBFWRB Office and Zoom
CATEGORIES:Workshop,YBFWRB Board Meetings
ORGANIZER;CN="YBFWRB":MAILTO:info@ybfwrb.org
END:VEVENT
BEGIN:VEVENT
DTSTART;TZID=America/Los_Angeles:20230223T170000
DTEND;TZID=America/Los_Angeles:20230223T193000
DTSTAMP:20260421T123156
CREATED:20230208T230443Z
LAST-MODIFIED:20230222T235002Z
UID:17318-1677171600-1677180600@ybfwrb.org
SUMMARY:Kittitas County Flood Workshop
DESCRIPTION:Kittitas County Flood Workshop\nPlease join us for a free workshop concerning permitting and processes regarding flood preparedness and recovery for property owners in at-risk areas of Kittitas County\, and the City of Ellensburg. \nA 2-hour\, Q& A panel and workshop engagement opportunity for the community. This workshop will provide an overview of hydrological processes in the Kittitas Valley and how property owners can take proactive steps to reduce flood damage on their property (both throughout the valley and the City of Ellensburg)\, in addition to exploring solutions to address recurring damages. This meeting will take place between 5:00-7:30PM on Thursday the 23rd\, at the Hal Holmes Community Center. \nRSVP HERE\nSnacks and hot drinks (cocoa & tea) will be provided. \nHal Holmes Community Center | Ellensburg\, WA \n209 N. Ruby St.\nEllensburg\, WA 98926 \n  \nFor flood resources in Kittitas County\, please visit: https://ybfwrb.org/outreach/flood-resources-for-streamside-landowners/
URL:https://ybfwrb.org/calendar/kittitas-county-flood-workshop/
LOCATION:WA
CATEGORIES:Workshop
ORGANIZER;CN="YBFWRB":MAILTO:info@ybfwrb.org
END:VEVENT
BEGIN:VEVENT
DTSTART;TZID=America/Los_Angeles:20230125T120000
DTEND;TZID=America/Los_Angeles:20230125T160000
DTSTAMP:20260421T123156
CREATED:20230125T174049Z
LAST-MODIFIED:20230125T174049Z
UID:17282-1674648000-1674662400@ybfwrb.org
SUMMARY:January 25th Board Meeting
DESCRIPTION:
URL:https://ybfwrb.org/calendar/january-25th-board-meeting/
LOCATION:Hybrid: YBFWRB Office and Zoom
ORGANIZER;CN="YBFWRB":MAILTO:info@ybfwrb.org
END:VEVENT
BEGIN:VEVENT
DTSTART;TZID=America/Los_Angeles:20221130T140000
DTEND;TZID=America/Los_Angeles:20221130T160000
DTSTAMP:20260421T123156
CREATED:20221121T230639Z
LAST-MODIFIED:20221130T181334Z
UID:17001-1669816800-1669824000@ybfwrb.org
SUMMARY:November 30th Board Meeting
DESCRIPTION:Please visit our page HERE for more information.\nUPDATED. This meeting will be held virtually due to poor local road conditions. 2:00-4:00 \nRSVP
URL:https://ybfwrb.org/calendar/november-30th-board-meeting/
LOCATION:Hybrid: YBFWRB Office and Zoom
ORGANIZER;CN="YBFWRB":MAILTO:info@ybfwrb.org
END:VEVENT
BEGIN:VEVENT
DTSTART;TZID=America/Los_Angeles:20220926T123000
DTEND;TZID=America/Los_Angeles:20220926T160000
DTSTAMP:20260421T123156
CREATED:20220921T230135Z
LAST-MODIFIED:20221215T230926Z
UID:16564-1664195400-1664208000@ybfwrb.org
SUMMARY:Board of Directors Meeting
DESCRIPTION:
URL:https://ybfwrb.org/calendar/board-of-directors-meeting/
LOCATION:YBFWRB Meeting Room\, 1200 Chesterly Drive\, Suite 280\, Yakima\, WA\, 98902
END:VEVENT
BEGIN:VEVENT
DTSTART;VALUE=DATE:20220921
DTEND;VALUE=DATE:20220923
DTSTAMP:20260421T123156
CREATED:20211117T160243Z
LAST-MODIFIED:20211117T160243Z
UID:15837-1663718400-1663891199@ybfwrb.org
SUMMARY:Board Funding Meeting - 2022 SRFB Grant Round
DESCRIPTION:SRFB awards grants during September meeting in Olympia. Public comment period available.
URL:https://ybfwrb.org/calendar/board-funding-meeting-2022-srfb-grant-round/
LOCATION:WA
END:VEVENT
BEGIN:VEVENT
DTSTART;TZID=America/Los_Angeles:20220810T120000
DTEND;TZID=America/Los_Angeles:20220810T160000
DTSTAMP:20260421T123156
CREATED:20211123T225304Z
LAST-MODIFIED:20211123T225304Z
UID:15861-1660132800-1660147200@ybfwrb.org
SUMMARY:Board Meeting
DESCRIPTION:The Yakima Basin Fish & Wildlife Recovery Board typically meets six times per year. Meetings take place at the YBFWRB office and are scheduled to begin at 2:00 p.m. and adjourn at 4 p.m.\, unless otherwise noted. The Board generally holds a pre-meeting workshop from 12-2pm prior to board meetings. The workshop timing and topic will be noted at the top of each agenda. \nThe Board holds an annual meeting where membership\, officer elections\, and the annual workplan and budget are approved. \nNotice: In compliance with Governor Inslee’s Stay Home\, Stay Healthy Executive Order\, all YBFWRB employees have been working remotely as of March 23\, 2020. Until current public gathering restrictions are lifted\, Board meetings will be held virtually via GoToMeeting (get the app) The public may also provide comment on Board topics via e-mail by sending them to info@ybfwrb.org by the end of the meeting.
URL:https://ybfwrb.org/calendar/board-meeting-4/
LOCATION:WA
END:VEVENT
BEGIN:VEVENT
DTSTART;VALUE=DATE:20220808
DTEND;VALUE=DATE:20220809
DTSTAMP:20260421T123156
CREATED:20211117T160923Z
LAST-MODIFIED:20211117T160928Z
UID:15835-1659916800-1660003199@ybfwrb.org
SUMMARY:DUE DATE: Accept SRFB Review Panel Condition(s) - 2022 SRFB Grant Round
DESCRIPTION:Sponsors with “conditioned” projects must accept the condition or withdraw their project for consideration of funding.
URL:https://ybfwrb.org/calendar/due-date-accept-srfb-review-panel-conditions-2022-srfb-grant-round/
LOCATION:WA
END:VEVENT
BEGIN:VEVENT
DTSTART;VALUE=DATE:20220804
DTEND;VALUE=DATE:20220805
DTSTAMP:20260421T123156
CREATED:20211117T160434Z
LAST-MODIFIED:20211117T160434Z
UID:15833-1659571200-1659657599@ybfwrb.org
SUMMARY:Citizen Committee Project Ranking - 2022 SRFB Grant Round
DESCRIPTION:The CC will use the TAG’s scoring for each project in conjunction with community value considerations to develop a ranked project list. Community values considered include: cultural\, social\, economic\, efficient & effective resource use\, community support\, and partner support. The Citizens Committee makes the final recommendation for project funding.
URL:https://ybfwrb.org/calendar/citizen-committee-project-ranking-2022-srfb-grant-round/
LOCATION:WA
END:VEVENT
BEGIN:VEVENT
DTSTART;VALUE=DATE:20220725
DTEND;VALUE=DATE:20220727
DTSTAMP:20260421T123156
CREATED:20211117T160427Z
LAST-MODIFIED:20211117T160427Z
UID:15831-1658707200-1658879999@ybfwrb.org
SUMMARY:Technical Advisory Group Project Evaluation - 2022 SRFB Grant Round
DESCRIPTION:TAG meets to rate the proposals submitted by project sponsors on their technical merits\, benefits to salmon\, certainty that the benefits will occur\, and certainty that the project can be completed within the grant timeframe and within the proposed budget.
URL:https://ybfwrb.org/calendar/technical-advisory-group-project-evaluation-2022-srfb-grant-round/
LOCATION:WA
END:VEVENT
BEGIN:VEVENT
DTSTART;VALUE=DATE:20220713
DTEND;VALUE=DATE:20220715
DTSTAMP:20260421T123156
CREATED:20211117T160427Z
LAST-MODIFIED:20211117T160427Z
UID:15829-1657670400-1657843199@ybfwrb.org
SUMMARY:SRFB Review Panel meeting - 2022 SRFB Grant Round
DESCRIPTION:Review panel meets to discuss projects. The review panel will consider application materials and site visits to prepare comment forms and determine the status of each project.
URL:https://ybfwrb.org/calendar/srfb-review-panel-meeting-2022-srfb-grant-round/
LOCATION:WA
END:VEVENT
BEGIN:VEVENT
DTSTART;TZID=America/Los_Angeles:20220628T140000
DTEND;TZID=America/Los_Angeles:20220628T150000
DTSTAMP:20260421T123156
CREATED:20220610T003614Z
LAST-MODIFIED:20220610T003657Z
UID:16309-1656424800-1656428400@ybfwrb.org
SUMMARY:Stream Bank Bio-Engineering Webinar #3: Toe and Bank Zone Treatments
DESCRIPTION:Organized by the Populus Committee as part of the 2022 Riparian Symposium \nJune 28\, 2022 \n2:00-3:00\nPacific Time (US and Canada) \nHow To Attend: \nYou are invited to a Zoom meeting.\nWhen: Jun 28\, 2022 02:00-3:00 PM Pacific Time (US and Canada) \nRegister in advance for this meeting:\nhttps://zoom.us/meeting/register/tJMld-6gqjIoH9WO-jTZ87Xxvx7umfF7ZkMH\n\nAfter registering\, you will receive a confirmation email containing information about joining the meeting. \n\nStreambank Bioengineering Webinar #3:  \nToe and Bank Zone Treatments  \nThis is part three of a series on streambank soil bioengineering\, which functions as a starter kit for planting and restoration techniques that utilize live plant materials to achieve desired stream function. \nIn this webinar\, Chris and Julie will briefly review the riparian planting zones\, and will outline treatments that are appropriate for the toe and bank zones. This focus area was selected based on feedback after webinar #2 in this series. \nParticipants are encouraged to view the previous webinars at the following links prior to participating\, if possible: \nPrinciples of Streambank Bioengineering\, Webinar #1 \nSpecies Selection and Collection\, Webinar #2 \nStreambank soil bioengineering treatments to be discussed: \n\nFascines\nCoir logs\nContainerized clumps\nBulrush clumps (wildlings)\nShrub/Tree Revetment\nVertical Bundles\nBrush Mattress\nWattles\nLive Beaver Dam Analogs\n\nThis session will build upon the principles discussed in the first and second webinars; however\, all are welcome to join. Previous webinars have discussed: \n\nStrategies for selecting site-appropriate riparian species\n\n\nTechniques for locating\, harvesting\, collecting\, and processing native plant materials \n\n\nPlant selections for streambank zones\n\n\nPlants used for various bioengineering treatments\n\n\nPropagation techniques for the collected materials to produce the highest establishment rates\n\n  \nWebinar Presenters: \nChris Hoag\, Riparian Ecologist – Hoag Riparian and Wetland Restoration LLC \n \nChris Hoag has been working on riparian and wetland systems for over 40 years and is the author of over 120 technical papers on applied planting techniques for riparian and wetland ecosystems. He has been working with Streambank Soil Bioengineering techniques for 37 years and has developed two practical field manuals on bioengineering and over 100 papers describing these techniques\, how to install them\, materials needed\, matching riparian species with appropriate streambank zones\, and management after installation. Chris was formerly the project lead of the Interagency Riparian/Wetland Plant Development Project\, USDA NRCS Plant Materials Center in Aberdeen\, Idaho. \nChris retired at the end of 2009 and opened up a small consulting business. He has worked\, taught\, and consulted all over the US\, Canada\, Mexico\, and made two trips to Afghanistan to provide technical assistance to the Afghan Ministry of Forestry and Range. He is currently collaborating with Julie Vanderwal to consolidate his years of experience\, data\, photos\, and documentation of techniques\, in order to make lessons learned accessible to practitioners. \n  \nJulie Vanderwal\, Horticulture Teacher and Restoration Consultant \nJulie Vanderwal has worked at the intersection of environmental science and education for over 20 years. She graduated from the British Columbia Institute of Technology in environmental technology and from Barstow College in child development/ education. Julie has taught in outdoor and ecological education and public school contexts\, working with all ages in Southern British Columbia\, Northern California\, South Eastern Quebec\, and North Central Washington. She worked for a decade as Conservation Coordinator for the Okanogan Highlands Alliance\, coordinating education and restoration programs. As part of that work\, she led riparian planting in a system dominated by reed canarygrass and managed BDA-based restoration that successfully aggraded a deeply incised streambed. The team’s evolution of the BDA weaving technique inspired her to pursue hybridizing BDA methods with established bioengineering treatments\, which led her to collaboration with Chris Hoag on other projects. While managing noxious weeds for stream and wetland restoration projects\, as well as at her home in the Okanogan Highlands\, Julie has explored non-herbicide methods of re-establishing diverse native plant communities in wetlands\, mixed conifer montane forest\, and shrub-steppe environments. She currently teaches Greenhouse Management and coordinates Work-Based Learning for the Oroville Jr/Sr High School in Okanogan County\, and is excited to be involving students in stream restoration on a deeper level.  \n 
URL:https://ybfwrb.org/calendar/stream-bank-bio-engineering-webinar-3-toe-and-bank-zone-treatments/
LOCATION:Virtual Meeting
END:VEVENT
BEGIN:VEVENT
DTSTART;VALUE=DATE:20220627
DTEND;VALUE=DATE:20220628
DTSTAMP:20260421T123156
CREATED:20211117T160425Z
LAST-MODIFIED:20211117T160425Z
UID:15827-1656288000-1656374399@ybfwrb.org
SUMMARY:DUE DATE: Final Materials & Response to initial project review forms - 2022 SRFB Grant Round
DESCRIPTION:Applications that were labeled “conditioned”\, “needs more information”\, “project of concern”\, or those projects that were cleared but have changed since site visits will update applications and respond to comments in PRISM. \nThe final application must include a response to SRFB Review panel comments.\nApplication materials\, including attachments\, must be submitted via PRISM by noon on June 27.
URL:https://ybfwrb.org/calendar/due-date-final-materials-response-to-initial-project-review-forms-2022-srfb-grant-round/
LOCATION:WA
END:VEVENT
BEGIN:VEVENT
DTSTART;VALUE=DATE:20220607
DTEND;VALUE=DATE:20220609
DTSTAMP:20260421T123156
CREATED:20211117T160420Z
LAST-MODIFIED:20211117T160420Z
UID:15825-1654560000-1654732799@ybfwrb.org
SUMMARY:Conference Call - 2022 SRFB Grant Round
DESCRIPTION:The Lead Entity Coordinator will schedule a one-hour conference call. This is specifically for projects that have been identified as a POC\, NMI\, or conditioned to receive further clarification from the state review panel. This is an opportunity for sponsors to clarify the questions and concerns of the state review panel. Time will be limited and sponsors should plan on identifying what need clarity prior to the call.
URL:https://ybfwrb.org/calendar/conference-call-2022-srfb-grant-round/
LOCATION:WA
END:VEVENT
BEGIN:VEVENT
DTSTART;TZID=America/Los_Angeles:20220518T130000
DTEND;TZID=America/Los_Angeles:20220518T150000
DTSTAMP:20260421T123156
CREATED:20211123T225013Z
LAST-MODIFIED:20220515T001611Z
UID:15858-1652878800-1652886000@ybfwrb.org
SUMMARY:Board Meeting
DESCRIPTION:Join us from 1 to 3 pm for the May 18 virtual meeting of the Yakima Basin Fish and Wildlife Recovery Board’s Board of Directors. The log in information can be found in the AGENDA.
URL:https://ybfwrb.org/calendar/board-meeting-3/
LOCATION:WA
END:VEVENT
BEGIN:VEVENT
DTSTART;VALUE=DATE:20220510
DTEND;VALUE=DATE:20220513
DTSTAMP:20260421T123156
CREATED:20211117T160419Z
LAST-MODIFIED:20211117T160419Z
UID:15823-1652140800-1652399999@ybfwrb.org
SUMMARY:Review Panel Site Visits - 2022 SRFB Grant Round
DESCRIPTION:RCO staff and Review Panel members meet with lead entities\, project sponsors\, and TAG/CC members to discuss project ideas and visit each proposed project site. Site visits may be held virtually\, in-person\, or a hybrid approach with limited in-person participation.
URL:https://ybfwrb.org/calendar/review-panel-site-visits-2022-srfb-grant-round/
LOCATION:WA
END:VEVENT
END:VCALENDAR