BEGIN:VCALENDAR
VERSION:2.0
PRODID:-//Yakima Basin Fish and Wildlife Recovery Board - ECPv6.15.20//NONSGML v1.0//EN
CALSCALE:GREGORIAN
METHOD:PUBLISH
X-WR-CALNAME:Yakima Basin Fish and Wildlife Recovery Board
X-ORIGINAL-URL:https://ybfwrb.org
X-WR-CALDESC:Events for Yakima Basin Fish and Wildlife Recovery Board
REFRESH-INTERVAL;VALUE=DURATION:PT1H
X-Robots-Tag:noindex
X-PUBLISHED-TTL:PT1H
BEGIN:VTIMEZONE
TZID:America/Los_Angeles
BEGIN:DAYLIGHT
TZOFFSETFROM:-0800
TZOFFSETTO:-0700
TZNAME:PDT
DTSTART:20190310T100000
END:DAYLIGHT
BEGIN:STANDARD
TZOFFSETFROM:-0700
TZOFFSETTO:-0800
TZNAME:PST
DTSTART:20191103T090000
END:STANDARD
BEGIN:DAYLIGHT
TZOFFSETFROM:-0800
TZOFFSETTO:-0700
TZNAME:PDT
DTSTART:20200308T100000
END:DAYLIGHT
BEGIN:STANDARD
TZOFFSETFROM:-0700
TZOFFSETTO:-0800
TZNAME:PST
DTSTART:20201101T090000
END:STANDARD
BEGIN:DAYLIGHT
TZOFFSETFROM:-0800
TZOFFSETTO:-0700
TZNAME:PDT
DTSTART:20210314T100000
END:DAYLIGHT
BEGIN:STANDARD
TZOFFSETFROM:-0700
TZOFFSETTO:-0800
TZNAME:PST
DTSTART:20211107T090000
END:STANDARD
BEGIN:DAYLIGHT
TZOFFSETFROM:-0800
TZOFFSETTO:-0700
TZNAME:PDT
DTSTART:20220313T100000
END:DAYLIGHT
BEGIN:STANDARD
TZOFFSETFROM:-0700
TZOFFSETTO:-0800
TZNAME:PST
DTSTART:20221106T090000
END:STANDARD
END:VTIMEZONE
BEGIN:VEVENT
DTSTART;TZID=America/Los_Angeles:20210324T140000
DTEND;TZID=America/Los_Angeles:20210324T160000
DTSTAMP:20260420T132304
CREATED:20201006T162849Z
LAST-MODIFIED:20210320T005508Z
UID:15108-1616594400-1616601600@ybfwrb.org
SUMMARY:YBFWRB Board Meeting and Pre-Meeting Workshop
DESCRIPTION:The Yakima Basin Fish and Wildlife Recovery Board will meet March 24\, 2021 from 2:00-4:00pm. This meeting will be held remotely via the GoTo Meeting platform; the login info is in the agenda: AGENDA.
URL:https://ybfwrb.org/calendar/ybfwrb-board-meeting-and-pre-meeting-workshop-2/
LOCATION:YBFWRB Meeting Room\, 1200 Chesterly Drive\, Suite 280\, Yakima\, WA\, 98902
END:VEVENT
BEGIN:VEVENT
DTSTART;VALUE=DATE:20210316
DTEND;VALUE=DATE:20210319
DTSTAMP:20260420T132304
CREATED:20210302T220716Z
LAST-MODIFIED:20210302T220913Z
UID:15322-1615852800-1616111999@ybfwrb.org
SUMMARY:SRFB Preapplication Conferences
DESCRIPTION:If you submit a 2021 SRFB pre-application\, we’ll work with you to schedule a time on March 16\, 17 or 18 for a pre-application conference to discuss you proposals and what you can do to have the strongest application possible in by the April 16 full application deadline.
URL:https://ybfwrb.org/calendar/srfb-preapplication-conferences/
END:VEVENT
BEGIN:VEVENT
DTSTART;VALUE=DATE:20210305
DTEND;VALUE=DATE:20210306
DTSTAMP:20260420T132304
CREATED:20210302T220503Z
LAST-MODIFIED:20210302T220503Z
UID:15320-1614902400-1614988799@ybfwrb.org
SUMMARY:SRFB Preapplications Due
DESCRIPTION:2021 preapplications for proposals for Yakima Basin SRFB funding are due at midnight on Fri\, March 5th. For more information on how to apply\, see the 2021 Request for Proposals.
URL:https://ybfwrb.org/calendar/srfb-preapplications-due/
END:VEVENT
BEGIN:VEVENT
DTSTART;TZID=America/Los_Angeles:20210120T140000
DTEND;TZID=America/Los_Angeles:20210120T160000
DTSTAMP:20260420T132304
CREATED:20201006T162534Z
LAST-MODIFIED:20210115T023234Z
UID:15106-1611151200-1611158400@ybfwrb.org
SUMMARY:YBFWRB Board Meeting
DESCRIPTION:The Yakima Basin Fish and Wildlife Recovery Board will meet from 2:00pm-4:00pm. Click here for the Agenda. Until current public gathering restrictions are lifted\, Board meetings will be held virtually via GoToMeeting (get the app) The public may also provide comment on Board topics via e-mail by sending them to Tricia at tsnyder@ybfwrb.org by the end of the meeting.
URL:https://ybfwrb.org/calendar/ybfwrb-board-meeting-and-pre-meeting-workshop/
END:VEVENT
BEGIN:VEVENT
DTSTART;TZID=America/Los_Angeles:20201007T140000
DTEND;TZID=America/Los_Angeles:20201007T160000
DTSTAMP:20260420T132304
CREATED:20201006T162223Z
LAST-MODIFIED:20201006T162602Z
UID:15102-1602079200-1602086400@ybfwrb.org
SUMMARY:YBFWRB Board Meeting
DESCRIPTION:The Yakima Basin Fish and Wildlife Recovery Board will meet virtually October 7th from 2:00-4:00pm. Until current public gathering restrictions are lifted\, Board meetings will be held virtually via GoToMeeting (get the app) The public may also provide comment on Board topics via e-mail by sending them to Tricia at tsnyder@ybfwrb.org by the end of the meeting.
URL:https://ybfwrb.org/calendar/ybfwrb-board-meeting/
END:VEVENT
BEGIN:VEVENT
DTSTART;TZID=America/Los_Angeles:20200916T080000
DTEND;TZID=America/Los_Angeles:20200917T170000
DTSTAMP:20260420T132304
CREATED:20200702T202215Z
LAST-MODIFIED:20200702T203921Z
UID:14443-1600243200-1600362000@ybfwrb.org
SUMMARY:Salmon Recovery Funding Board Meeting
DESCRIPTION:Prioritized lists\, submitted by the Lead Entities across the state\, will be reviewed and funding awarded at the September SRFB meeting\, currently scheduled to be held in Olympia.
URL:https://ybfwrb.org/calendar/salmon-recovery-funding-board-meeting/
CATEGORIES:Meetings
END:VEVENT
BEGIN:VEVENT
DTSTART;TZID=America/Los_Angeles:20200813T130000
DTEND;TZID=America/Los_Angeles:20200813T153000
DTSTAMP:20260420T132304
CREATED:20200702T201851Z
LAST-MODIFIED:20200808T212548Z
UID:14441-1597323600-1597332600@ybfwrb.org
SUMMARY:YBFWRB Annual Meeting
DESCRIPTION:The 2020 Annual Meeting of the Yakima Basin Fish and Wildlife Recovery Board will be a virtual meeting\, from 1 to 3:30 pm on Thursday August 13. The agenda is available here.
URL:https://ybfwrb.org/calendar/ybfwrb-annual-meeting/
LOCATION:Virtual Meeting
CATEGORIES:Annual Meeting
ORGANIZER;CN="YBFWRB":MAILTO:info@ybfwrb.org
END:VEVENT
BEGIN:VEVENT
DTSTART;TZID=America/Los_Angeles:20200709T080000
DTEND;TZID=America/Los_Angeles:20200709T170000
DTSTAMP:20260420T132304
CREATED:20200702T201740Z
LAST-MODIFIED:20200702T203823Z
UID:14439-1594281600-1594314000@ybfwrb.org
SUMMARY:Grant Writing Workshop
DESCRIPTION:Our in-person grant writing workshop as part of the 2020 Eastern WA Riparian Planting Symposium has been converted to a virtual event. In this workshop we will discuss: \n\nhow to find funding\nhow to develop goals and objectives\nscope of work\, budgets\, schedules\, staffing\nactive writing vs. passive writing\n\nTo register\, please e-mail Heather Simmons at hsim461@ecy.wa.gov
URL:https://ybfwrb.org/calendar/grant-writing-workshop-july-9th-2020/
CATEGORIES:Workshop
END:VEVENT
END:VCALENDAR