BEGIN:VCALENDAR
VERSION:2.0
PRODID:-//Yakima Basin Fish and Wildlife Recovery Board - ECPv6.15.20//NONSGML v1.0//EN
CALSCALE:GREGORIAN
METHOD:PUBLISH
X-WR-CALNAME:Yakima Basin Fish and Wildlife Recovery Board
X-ORIGINAL-URL:https://ybfwrb.org
X-WR-CALDESC:Events for Yakima Basin Fish and Wildlife Recovery Board
REFRESH-INTERVAL;VALUE=DURATION:PT1H
X-Robots-Tag:noindex
X-PUBLISHED-TTL:PT1H
BEGIN:VTIMEZONE
TZID:America/Los_Angeles
BEGIN:DAYLIGHT
TZOFFSETFROM:-0800
TZOFFSETTO:-0700
TZNAME:PDT
DTSTART:20190310T100000
END:DAYLIGHT
BEGIN:STANDARD
TZOFFSETFROM:-0700
TZOFFSETTO:-0800
TZNAME:PST
DTSTART:20191103T090000
END:STANDARD
BEGIN:DAYLIGHT
TZOFFSETFROM:-0800
TZOFFSETTO:-0700
TZNAME:PDT
DTSTART:20200308T100000
END:DAYLIGHT
BEGIN:STANDARD
TZOFFSETFROM:-0700
TZOFFSETTO:-0800
TZNAME:PST
DTSTART:20201101T090000
END:STANDARD
BEGIN:DAYLIGHT
TZOFFSETFROM:-0800
TZOFFSETTO:-0700
TZNAME:PDT
DTSTART:20210314T100000
END:DAYLIGHT
BEGIN:STANDARD
TZOFFSETFROM:-0700
TZOFFSETTO:-0800
TZNAME:PST
DTSTART:20211107T090000
END:STANDARD
END:VTIMEZONE
BEGIN:VEVENT
DTSTART;TZID=America/Los_Angeles:20200813T130000
DTEND;TZID=America/Los_Angeles:20200813T153000
DTSTAMP:20260420T145826
CREATED:20200702T201851Z
LAST-MODIFIED:20200808T212548Z
UID:14441-1597323600-1597332600@ybfwrb.org
SUMMARY:YBFWRB Annual Meeting
DESCRIPTION:The 2020 Annual Meeting of the Yakima Basin Fish and Wildlife Recovery Board will be a virtual meeting\, from 1 to 3:30 pm on Thursday August 13. The agenda is available here.
URL:https://ybfwrb.org/calendar/ybfwrb-annual-meeting/
LOCATION:Virtual Meeting
CATEGORIES:Annual Meeting
ORGANIZER;CN="YBFWRB":MAILTO:info@ybfwrb.org
END:VEVENT
BEGIN:VEVENT
DTSTART;TZID=America/Los_Angeles:20200709T080000
DTEND;TZID=America/Los_Angeles:20200709T170000
DTSTAMP:20260420T145826
CREATED:20200702T201740Z
LAST-MODIFIED:20200702T203823Z
UID:14439-1594281600-1594314000@ybfwrb.org
SUMMARY:Grant Writing Workshop
DESCRIPTION:Our in-person grant writing workshop as part of the 2020 Eastern WA Riparian Planting Symposium has been converted to a virtual event. In this workshop we will discuss: \n\nhow to find funding\nhow to develop goals and objectives\nscope of work\, budgets\, schedules\, staffing\nactive writing vs. passive writing\n\nTo register\, please e-mail Heather Simmons at hsim461@ecy.wa.gov
URL:https://ybfwrb.org/calendar/grant-writing-workshop-july-9th-2020/
LOCATION:WA
CATEGORIES:Workshop
END:VEVENT
END:VCALENDAR