BEGIN:VCALENDAR
VERSION:2.0
PRODID:-//Yakima Basin Fish and Wildlife Recovery Board - ECPv6.15.20//NONSGML v1.0//EN
CALSCALE:GREGORIAN
METHOD:PUBLISH
X-WR-CALNAME:Yakima Basin Fish and Wildlife Recovery Board
X-ORIGINAL-URL:https://ybfwrb.org
X-WR-CALDESC:Events for Yakima Basin Fish and Wildlife Recovery Board
REFRESH-INTERVAL;VALUE=DURATION:PT1H
X-Robots-Tag:noindex
X-PUBLISHED-TTL:PT1H
BEGIN:VTIMEZONE
TZID:America/Los_Angeles
BEGIN:DAYLIGHT
TZOFFSETFROM:-0800
TZOFFSETTO:-0700
TZNAME:PDT
DTSTART:20250309T100000
END:DAYLIGHT
BEGIN:STANDARD
TZOFFSETFROM:-0700
TZOFFSETTO:-0800
TZNAME:PST
DTSTART:20251102T090000
END:STANDARD
BEGIN:DAYLIGHT
TZOFFSETFROM:-0800
TZOFFSETTO:-0700
TZNAME:PDT
DTSTART:20260308T100000
END:DAYLIGHT
BEGIN:STANDARD
TZOFFSETFROM:-0700
TZOFFSETTO:-0800
TZNAME:PST
DTSTART:20261101T090000
END:STANDARD
BEGIN:DAYLIGHT
TZOFFSETFROM:-0800
TZOFFSETTO:-0700
TZNAME:PDT
DTSTART:20270314T100000
END:DAYLIGHT
BEGIN:STANDARD
TZOFFSETFROM:-0700
TZOFFSETTO:-0800
TZNAME:PST
DTSTART:20271107T090000
END:STANDARD
END:VTIMEZONE
BEGIN:VEVENT
DTSTART;VALUE=DATE:20260226
DTEND;VALUE=DATE:20260227
DTSTAMP:20260421T025032
CREATED:20250909T204307Z
LAST-MODIFIED:20251022T225049Z
UID:30022-1772064000-1772150399@ybfwrb.org
SUMMARY:Eastern Washington Riparian Planting Conference - Populus
DESCRIPTION:More information coming soon!
URL:https://ybfwrb.org/calendar/eastern-washington-riparian-planting-conference-populus/
LOCATION:Wenatchee Convention Center\, 121 N Wenatchee Ave\, Wenatchee\, 98801\, United States
CATEGORIES:Workshop
ORGANIZER;CN="MCFEG & YBFWRB":MAILTO:operations@ybfwrb.org
END:VEVENT
BEGIN:VEVENT
DTSTART;TZID=America/Los_Angeles:20260227T090000
DTEND;TZID=America/Los_Angeles:20260227T120000
DTSTAMP:20260421T025032
CREATED:20251210T005306Z
LAST-MODIFIED:20260213T190349Z
UID:30631-1772182800-1772193600@ybfwrb.org
SUMMARY:2026 Eastern Washington Riparian Symposium - Field Trip
DESCRIPTION:Join regional practitioners as we visit one to two sites in the vicinity of Wenatchee WA\, to learn about practices at partner restoration sites. Dress for field conditions\, bring water\, and any snacks.  REGISTER HERE FOR THE SYMPOSIUM AND FIELD TRIP
URL:https://ybfwrb.org/calendar/2026-eastern-washington-riparian-symposium-field-trip/
END:VEVENT
END:VCALENDAR