BEGIN:VCALENDAR
VERSION:2.0
PRODID:-//Yakima Basin Fish and Wildlife Recovery Board - ECPv6.15.20//NONSGML v1.0//EN
CALSCALE:GREGORIAN
METHOD:PUBLISH
X-ORIGINAL-URL:https://ybfwrb.org
X-WR-CALDESC:Events for Yakima Basin Fish and Wildlife Recovery Board
REFRESH-INTERVAL;VALUE=DURATION:PT1H
X-Robots-Tag:noindex
X-PUBLISHED-TTL:PT1H
BEGIN:VTIMEZONE
TZID:UTC
BEGIN:STANDARD
TZOFFSETFROM:+0000
TZOFFSETTO:+0000
TZNAME:UTC
DTSTART:20210101T000000
END:STANDARD
END:VTIMEZONE
BEGIN:VEVENT
DTSTART;TZID=UTC:20220407T093000
DTEND;TZID=UTC:20220407T163000
DTSTAMP:20260424T084305
CREATED:20220315T193857Z
LAST-MODIFIED:20220325T191517Z
UID:16058-1649323800-1649349000@ybfwrb.org
SUMMARY:2022 Eastern Washington Riparian Planting Symposium
DESCRIPTION:2022 Eastern Washington Riparian Planting Symposium\n \nWHEN: Thursday April 7\, 2022. 9:30 AM-4:30 PM \nWHERE: Online (Zoom)\n \nPre-registration required to attend! \n-Register Here-\n                                                             -Agenda-\n  \n \n  \n 
URL:https://ybfwrb.org/calendar/2022-eastern-washington-riparian-planting-symposium/
LOCATION:Virtual Meeting
ORGANIZER;CN="YBFWRB":MAILTO:info@ybfwrb.org
END:VEVENT
END:VCALENDAR